Package: DAMEfinder Version: 1.19.0 Command: chmod a+r DAMEfinder -R && E:\biocbuild\bbs-3.21-bioc\R\bin\R.exe CMD build --keep-empty-dirs --no-resave-data DAMEfinder StartedAt: 2025-02-04 18:09:13 -0500 (Tue, 04 Feb 2025) EndedAt: 2025-02-04 18:12:19 -0500 (Tue, 04 Feb 2025) EllapsedTime: 186.0 seconds RetCode: 0 Status: OK PackageFile: DAMEfinder_1.19.0.tar.gz PackageFileSize: 3.057 MiB