Package: DAMEfinder Version: 1.19.0 Command: E:\biocbuild\bbs-3.21-bioc\R\bin\R.exe CMD check --no-multiarch --install=check:DAMEfinder.install-out.txt --library=E:\biocbuild\bbs-3.21-bioc\R\library --no-vignettes --timings DAMEfinder_1.19.0.tar.gz StartedAt: 2025-02-05 00:39:22 -0500 (Wed, 05 Feb 2025) EndedAt: 2025-02-05 00:45:29 -0500 (Wed, 05 Feb 2025) EllapsedTime: 367.1 seconds RetCode: 0 Status: OK CheckDir: DAMEfinder.Rcheck Warnings: 0