Package: DART Version: 1.55.0 Command: /Library/Frameworks/R.framework/Resources/bin/R CMD build --keep-empty-dirs --no-resave-data DART StartedAt: 2025-02-04 16:04:27 -0500 (Tue, 04 Feb 2025) EndedAt: 2025-02-04 16:04:37 -0500 (Tue, 04 Feb 2025) EllapsedTime: 10.1 seconds RetCode: 0 Status: OK PackageFile: DART_1.55.0.tar.gz PackageFileSize: 1.987 MiB