Package: DART Version: 1.55.0 Command: /Library/Frameworks/R.framework/Resources/bin/R CMD check --install=check:DART.install-out.txt --library=/Library/Frameworks/R.framework/Resources/library --no-vignettes --timings DART_1.55.0.tar.gz StartedAt: 2025-02-09 18:50:49 -0500 (Sun, 09 Feb 2025) EndedAt: 2025-02-09 18:51:07 -0500 (Sun, 09 Feb 2025) EllapsedTime: 17.2 seconds RetCode: 0 Status: OK CheckDir: DART.Rcheck Warnings: 0