Package: DART Version: 1.55.0 Command: /Library/Frameworks/R.framework/Resources/bin/R CMD INSTALL DART StartedAt: 2025-02-09 15:01:58 -0500 (Sun, 09 Feb 2025) EndedAt: 2025-02-09 15:02:03 -0500 (Sun, 09 Feb 2025) EllapsedTime: 4.5 seconds RetCode: 0 Status: OK