Package: DART Version: 1.55.0 Command: /home/biocbuild/R/R/bin/R CMD INSTALL DART StartedAt: 2025-01-29 19:32:07 -0000 (Wed, 29 Jan 2025) EndedAt: 2025-01-29 19:32:28 -0000 (Wed, 29 Jan 2025) EllapsedTime: 21.0 seconds RetCode: 0 Status: OK