Package: DART Version: 1.55.0 Command: rm -rf DART.buildbin-libdir && mkdir DART.buildbin-libdir && /Users/biocbuild/BBS/utils/build-universal.sh DART_1.55.0.tar.gz /Library/Frameworks/R.framework/Resources/bin/R DART.buildbin-libdir StartedAt: 2025-02-10 00:49:34 -0500 (Mon, 10 Feb 2025) EndedAt: 2025-02-10 00:49:40 -0500 (Mon, 10 Feb 2025) EllapsedTime: 5.7 seconds RetCode: 0 Status: OK PackageFile: DART_1.55.0.tgz PackageFileSize: 2.028 MiB