Package: DART Version: 1.55.0 Command: /Library/Frameworks/R.framework/Resources/bin/R CMD build --keep-empty-dirs --no-resave-data DART StartedAt: 2025-02-09 16:28:11 -0500 (Sun, 09 Feb 2025) EndedAt: 2025-02-09 16:28:38 -0500 (Sun, 09 Feb 2025) EllapsedTime: 27.4 seconds RetCode: 0 Status: OK PackageFile: DART_1.55.0.tar.gz PackageFileSize: 1.988 MiB