Package: DART Version: 1.55.0 Command: /home/biocbuild/bbs-3.21-bioc/R/bin/R CMD check --install=check:DART.install-out.txt --library=/home/biocbuild/bbs-3.21-bioc/R/site-library --timings DART_1.55.0.tar.gz StartedAt: 2025-02-09 21:28:29 -0500 (Sun, 09 Feb 2025) EndedAt: 2025-02-09 21:29:15 -0500 (Sun, 09 Feb 2025) EllapsedTime: 46.0 seconds RetCode: 0 Status: OK CheckDir: DART.Rcheck Warnings: 0