Package: DEFormats Version: 1.35.0 Command: /Library/Frameworks/R.framework/Resources/bin/R CMD check --install=check:DEFormats.install-out.txt --library=/Library/Frameworks/R.framework/Resources/library --no-vignettes --timings DEFormats_1.35.0.tar.gz StartedAt: 2025-02-09 18:52:30 -0500 (Sun, 09 Feb 2025) EndedAt: 2025-02-09 18:53:42 -0500 (Sun, 09 Feb 2025) EllapsedTime: 72.8 seconds RetCode: 0 Status: OK CheckDir: DEFormats.Rcheck Warnings: 0