Package: DEFormats Version: 1.35.0 Command: /home/biocbuild/R/R/bin/R CMD build --keep-empty-dirs --no-resave-data DEFormats StartedAt: 2025-01-28 22:19:57 -0000 (Tue, 28 Jan 2025) EndedAt: 2025-01-28 22:20:47 -0000 (Tue, 28 Jan 2025) EllapsedTime: 50.0 seconds RetCode: 0 Status: OK PackageFile: DEFormats_1.35.0.tar.gz PackageFileSize: 250.9 KiB