Package: DEFormats Version: 1.35.0 Command: /Library/Frameworks/R.framework/Resources/bin/R CMD build --keep-empty-dirs --no-resave-data DEFormats StartedAt: 2025-02-09 16:29:40 -0500 (Sun, 09 Feb 2025) EndedAt: 2025-02-09 16:30:31 -0500 (Sun, 09 Feb 2025) EllapsedTime: 50.5 seconds RetCode: 0 Status: OK PackageFile: DEFormats_1.35.0.tar.gz PackageFileSize: 226.4 KiB