Package: DEFormats Version: 1.35.0 Command: E:\biocbuild\bbs-3.21-bioc\R\bin\R.exe CMD check --no-multiarch --install=check:DEFormats.install-out.txt --library=E:\biocbuild\bbs-3.21-bioc\R\library --no-vignettes --timings DEFormats_1.35.0.tar.gz StartedAt: 2025-02-10 00:17:28 -0500 (Mon, 10 Feb 2025) EndedAt: 2025-02-10 00:20:58 -0500 (Mon, 10 Feb 2025) EllapsedTime: 209.7 seconds RetCode: 0 Status: OK CheckDir: DEFormats.Rcheck Warnings: 0