Package: DEFormats Version: 1.35.0 Command: E:\biocbuild\bbs-3.21-bioc\R\bin\R.exe CMD INSTALL DEFormats StartedAt: 2025-02-09 16:49:55 -0500 (Sun, 09 Feb 2025) EndedAt: 2025-02-09 16:50:30 -0500 (Sun, 09 Feb 2025) EllapsedTime: 35.2 seconds RetCode: 0 Status: OK