Package: DEGraph Version: 1.59.0 Command: /home/biocbuild/R/R/bin/R CMD build --keep-empty-dirs --no-resave-data DEGraph StartedAt: 2025-01-28 22:20:38 -0000 (Tue, 28 Jan 2025) EndedAt: 2025-01-28 22:21:09 -0000 (Tue, 28 Jan 2025) EllapsedTime: 31.0 seconds RetCode: 0 Status: OK PackageFile: DEGraph_1.59.0.tar.gz PackageFileSize: 1.537 MiB