Package: DEGraph Version: 1.59.0 Command: /home/biocbuild/R/R/bin/R CMD INSTALL DEGraph StartedAt: 2025-01-29 20:14:50 -0000 (Wed, 29 Jan 2025) EndedAt: 2025-01-29 20:15:02 -0000 (Wed, 29 Jan 2025) EllapsedTime: 11.6 seconds RetCode: 0 Status: OK