Package: DEGraph Version: 1.59.0 Command: /home/biocbuild/bbs-3.21-bioc/R/bin/R CMD build --keep-empty-dirs --no-resave-data DEGraph StartedAt: 2025-02-10 17:05:00 -0500 (Mon, 10 Feb 2025) EndedAt: 2025-02-10 17:05:23 -0500 (Mon, 10 Feb 2025) EllapsedTime: 23.0 seconds RetCode: 0 Status: OK PackageFile: DEGraph_1.59.0.tar.gz PackageFileSize: 1.531 MiB