Package: DEGraph Version: 1.59.0 Command: /home/biocbuild/bbs-3.21-bioc/R/bin/R CMD INSTALL DEGraph StartedAt: 2025-02-10 15:40:23 -0500 (Mon, 10 Feb 2025) EndedAt: 2025-02-10 15:40:31 -0500 (Mon, 10 Feb 2025) EllapsedTime: 8.3 seconds RetCode: 0 Status: OK