Package: DEGreport Version: 1.43.0 Command: rm -rf DEGreport.buildbin-libdir && mkdir DEGreport.buildbin-libdir && /Users/biocbuild/BBS/utils/build-universal.sh DEGreport_1.43.0.tar.gz /Library/Frameworks/R.framework/Resources/bin/R DEGreport.buildbin-libdir StartedAt: 2025-02-09 22:11:47 -0500 (Sun, 09 Feb 2025) EndedAt: 2025-02-09 22:12:01 -0500 (Sun, 09 Feb 2025) EllapsedTime: 14.2 seconds RetCode: 0 Status: OK PackageFile: DEGreport_1.43.0.tgz PackageFileSize: 3.326 MiB