Package: DEGreport Version: 1.43.0 Command: /Library/Frameworks/R.framework/Resources/bin/R CMD build --keep-empty-dirs --no-resave-data DEGreport StartedAt: 2025-02-09 16:05:29 -0500 (Sun, 09 Feb 2025) EndedAt: 2025-02-09 16:05:57 -0500 (Sun, 09 Feb 2025) EllapsedTime: 27.3 seconds RetCode: 0 Status: OK PackageFile: DEGreport_1.43.0.tar.gz PackageFileSize: 19.73 MiB