Package: DEGreport Version: 1.43.0 Command: /home/biocbuild/R/R/bin/R CMD build --keep-empty-dirs --no-resave-data DEGreport StartedAt: 2025-01-28 22:20:47 -0000 (Tue, 28 Jan 2025) EndedAt: 2025-01-28 22:22:28 -0000 (Tue, 28 Jan 2025) EllapsedTime: 101.0 seconds RetCode: 0 Status: OK PackageFile: DEGreport_1.43.0.tar.gz PackageFileSize: 18.85 MiB