Package: DEGreport Version: 1.43.0 Command: rm -rf DEGreport.buildbin-libdir && mkdir DEGreport.buildbin-libdir && /Users/biocbuild/BBS/utils/build-universal.sh DEGreport_1.43.0.tar.gz /Library/Frameworks/R.framework/Resources/bin/R DEGreport.buildbin-libdir StartedAt: 2025-02-10 00:49:56 -0500 (Mon, 10 Feb 2025) EndedAt: 2025-02-10 00:50:42 -0500 (Mon, 10 Feb 2025) EllapsedTime: 46.1 seconds RetCode: 0 Status: OK PackageFile: DEGreport_1.43.0.tgz PackageFileSize: 3.314 MiB