Package: DEGreport Version: 1.43.0 Command: /Library/Frameworks/R.framework/Resources/bin/R CMD check --install=check:DEGreport.install-out.txt --library=/Library/Frameworks/R.framework/Resources/library --no-vignettes --timings DEGreport_1.43.0.tar.gz StartedAt: 2025-02-04 19:59:23 -0500 (Tue, 04 Feb 2025) EndedAt: 2025-02-04 20:04:47 -0500 (Tue, 04 Feb 2025) EllapsedTime: 323.1 seconds RetCode: 0 Status: OK CheckDir: DEGreport.Rcheck Warnings: 0