Package: DEGreport Version: 1.43.0 Command: /Library/Frameworks/R.framework/Resources/bin/R CMD INSTALL DEGreport StartedAt: 2025-02-09 15:19:37 -0500 (Sun, 09 Feb 2025) EndedAt: 2025-02-09 15:20:20 -0500 (Sun, 09 Feb 2025) EllapsedTime: 43.1 seconds RetCode: 0 Status: OK