Package: DEGreport Version: 1.43.0 Command: rm -rf DEGreport.buildbin-libdir && mkdir DEGreport.buildbin-libdir && E:\biocbuild\bbs-3.21-bioc\R\bin\R.exe CMD INSTALL --build --library=DEGreport.buildbin-libdir DEGreport_1.43.0.tar.gz StartedAt: 2025-02-05 07:47:35 -0500 (Wed, 05 Feb 2025) EndedAt: 2025-02-05 07:48:36 -0500 (Wed, 05 Feb 2025) EllapsedTime: 61.2 seconds RetCode: 0 Status: OK PackageFile: DEGreport_1.43.0.zip PackageFileSize: 2.308 MiB