Package: DEGreport Version: 1.43.0 Command: chmod a+r DEGreport -R && E:\biocbuild\bbs-3.21-bioc\R\bin\R.exe CMD build --keep-empty-dirs --no-resave-data DEGreport StartedAt: 2025-02-04 18:15:44 -0500 (Tue, 04 Feb 2025) EndedAt: 2025-02-04 18:18:24 -0500 (Tue, 04 Feb 2025) EllapsedTime: 160.0 seconds RetCode: 0 Status: OK PackageFile: DEGreport_1.43.0.tar.gz PackageFileSize: 18.7 MiB