Package: DEGreport Version: 1.43.0 Command: E:\biocbuild\bbs-3.21-bioc\R\bin\R.exe CMD check --no-multiarch --install=check:DEGreport.install-out.txt --library=E:\biocbuild\bbs-3.21-bioc\R\library --no-vignettes --timings DEGreport_1.43.0.tar.gz StartedAt: 2025-02-05 00:45:46 -0500 (Wed, 05 Feb 2025) EndedAt: 2025-02-05 00:51:50 -0500 (Wed, 05 Feb 2025) EllapsedTime: 363.5 seconds RetCode: 0 Status: OK CheckDir: DEGreport.Rcheck Warnings: 0