Package: DEGseq Version: 1.61.0 Command: rm -rf DEGseq.buildbin-libdir && mkdir DEGseq.buildbin-libdir && /Users/biocbuild/BBS/utils/build-universal.sh DEGseq_1.61.0.tar.gz /Library/Frameworks/R.framework/Resources/bin/R DEGseq.buildbin-libdir StartedAt: 2025-02-03 22:47:37 -0500 (Mon, 03 Feb 2025) EndedAt: 2025-02-03 22:47:44 -0500 (Mon, 03 Feb 2025) EllapsedTime: 6.1 seconds RetCode: 0 Status: OK PackageFile: DEGseq_1.61.0.tgz PackageFileSize: 2.247 MiB