Package: DEGseq Version: 1.61.0 Command: /Library/Frameworks/R.framework/Resources/bin/R CMD build --keep-empty-dirs --no-resave-data DEGseq StartedAt: 2025-02-03 16:42:23 -0500 (Mon, 03 Feb 2025) EndedAt: 2025-02-03 16:42:33 -0500 (Mon, 03 Feb 2025) EllapsedTime: 10.1 seconds RetCode: 0 Status: OK PackageFile: DEGseq_1.61.0.tar.gz PackageFileSize: 1.961 MiB