Package: DEGseq Version: 1.61.0 Command: /Library/Frameworks/R.framework/Resources/bin/R CMD check --install=check:DEGseq.install-out.txt --library=/Library/Frameworks/R.framework/Resources/library --no-vignettes --timings DEGseq_1.61.0.tar.gz StartedAt: 2025-02-03 19:30:43 -0500 (Mon, 03 Feb 2025) EndedAt: 2025-02-03 19:31:00 -0500 (Mon, 03 Feb 2025) EllapsedTime: 17.2 seconds RetCode: 0 Status: WARNINGS CheckDir: DEGseq.Rcheck Warnings: 1