Package: DEGseq Version: 1.61.0 Command: /home/biocbuild/R/R/bin/R CMD INSTALL DEGseq StartedAt: 2025-01-29 19:43:14 -0000 (Wed, 29 Jan 2025) EndedAt: 2025-01-29 19:43:33 -0000 (Wed, 29 Jan 2025) EllapsedTime: 18.4 seconds RetCode: 0 Status: OK