Package: DEGseq Version: 1.61.0 Command: rm -rf DEGseq.buildbin-libdir && mkdir DEGseq.buildbin-libdir && /Users/biocbuild/BBS/utils/build-universal.sh DEGseq_1.61.0.tar.gz /Library/Frameworks/R.framework/Resources/bin/R DEGseq.buildbin-libdir StartedAt: 2025-02-10 00:49:56 -0500 (Mon, 10 Feb 2025) EndedAt: 2025-02-10 00:50:16 -0500 (Mon, 10 Feb 2025) EllapsedTime: 20.8 seconds RetCode: 0 Status: OK PackageFile: DEGseq_1.61.0.tgz PackageFileSize: 2.249 MiB