Package: DEGseq Version: 1.61.0 Command: /Library/Frameworks/R.framework/Resources/bin/R CMD INSTALL DEGseq StartedAt: 2025-02-12 15:09:22 -0500 (Wed, 12 Feb 2025) EndedAt: 2025-02-12 15:09:40 -0500 (Wed, 12 Feb 2025) EllapsedTime: 17.5 seconds RetCode: 0 Status: OK