Package: DEGseq Version: 1.61.0 Command: /home/biocbuild/bbs-3.21-bioc/R/bin/R CMD check --install=check:DEGseq.install-out.txt --library=/home/biocbuild/bbs-3.21-bioc/R/site-library --timings DEGseq_1.61.0.tar.gz StartedAt: 2025-02-09 21:37:03 -0500 (Sun, 09 Feb 2025) EndedAt: 2025-02-09 21:37:41 -0500 (Sun, 09 Feb 2025) EllapsedTime: 38.0 seconds RetCode: 0 Status: WARNINGS CheckDir: DEGseq.Rcheck Warnings: 1