Package: DEGseq Version: 1.61.0 Command: /home/biocbuild/bbs-3.21-bioc/R/bin/R CMD INSTALL DEGseq StartedAt: 2025-02-09 15:10:08 -0500 (Sun, 09 Feb 2025) EndedAt: 2025-02-09 15:10:30 -0500 (Sun, 09 Feb 2025) EllapsedTime: 22.8 seconds RetCode: 0 Status: OK