Package: DEGseq Version: 1.61.0 Command: E:\biocbuild\bbs-3.21-bioc\R\bin\R.exe CMD check --no-multiarch --install=check:DEGseq.install-out.txt --library=E:\biocbuild\bbs-3.21-bioc\R\library --no-vignettes --timings DEGseq_1.61.0.tar.gz StartedAt: 2025-02-10 00:18:18 -0500 (Mon, 10 Feb 2025) EndedAt: 2025-02-10 00:19:25 -0500 (Mon, 10 Feb 2025) EllapsedTime: 66.6 seconds RetCode: 0 Status: OK CheckDir: DEGseq.Rcheck Warnings: 0