Package: DELocal Version: 1.7.0 Command: /Library/Frameworks/R.framework/Resources/bin/R CMD build --keep-empty-dirs --no-resave-data DELocal StartedAt: 2025-02-09 16:30:44 -0500 (Sun, 09 Feb 2025) EndedAt: 2025-02-09 16:31:58 -0500 (Sun, 09 Feb 2025) EllapsedTime: 73.2 seconds RetCode: 1 Status: ERROR PackageFile: None PackageFileSize: NA