Package: DELocal Version: 1.7.0 Command: /Library/Frameworks/R.framework/Resources/bin/R CMD INSTALL DELocal StartedAt: 2025-02-12 15:16:30 -0500 (Wed, 12 Feb 2025) EndedAt: 2025-02-12 15:17:10 -0500 (Wed, 12 Feb 2025) EllapsedTime: 40.5 seconds RetCode: 0 Status: OK