Package: DEP Version: 1.29.0 Command: rm -rf DEP.buildbin-libdir && mkdir DEP.buildbin-libdir && /Users/biocbuild/BBS/utils/build-universal.sh DEP_1.29.0.tar.gz /Library/Frameworks/R.framework/Resources/bin/R DEP.buildbin-libdir StartedAt: 2025-02-09 22:12:04 -0500 (Sun, 09 Feb 2025) EndedAt: 2025-02-09 22:12:23 -0500 (Sun, 09 Feb 2025) EllapsedTime: 18.4 seconds RetCode: 0 Status: OK PackageFile: DEP_1.29.0.tgz PackageFileSize: 4.27 MiB