Package: DEP Version: 1.29.0 Command: /Library/Frameworks/R.framework/Resources/bin/R CMD check --install=check:DEP.install-out.txt --library=/Library/Frameworks/R.framework/Resources/library --no-vignettes --timings DEP_1.29.0.tar.gz StartedAt: 2025-02-09 18:55:45 -0500 (Sun, 09 Feb 2025) EndedAt: 2025-02-09 18:58:08 -0500 (Sun, 09 Feb 2025) EllapsedTime: 142.7 seconds RetCode: 0 Status: WARNINGS CheckDir: DEP.Rcheck Warnings: 1