Package: DEP Version: 1.29.0 Command: rm -rf DEP.buildbin-libdir && mkdir DEP.buildbin-libdir && /Users/biocbuild/BBS/utils/build-universal.sh DEP_1.29.0.tar.gz /Library/Frameworks/R.framework/Resources/bin/R DEP.buildbin-libdir StartedAt: 2025-02-11 01:04:23 -0500 (Tue, 11 Feb 2025) EndedAt: 2025-02-11 01:05:18 -0500 (Tue, 11 Feb 2025) EllapsedTime: 55.4 seconds RetCode: 0 Status: OK PackageFile: DEP_1.29.0.tgz PackageFileSize: 4.257 MiB