Package: DEP Version: 1.29.0 Command: /Library/Frameworks/R.framework/Resources/bin/R CMD check --install=check:DEP.install-out.txt --library=/Library/Frameworks/R.framework/Resources/library --no-vignettes --timings DEP_1.29.0.tar.gz StartedAt: 2025-02-10 20:37:10 -0500 (Mon, 10 Feb 2025) EndedAt: 2025-02-10 20:45:06 -0500 (Mon, 10 Feb 2025) EllapsedTime: 476.7 seconds RetCode: 0 Status: WARNINGS CheckDir: DEP.Rcheck Warnings: 1