Package: DEP Version: 1.29.0 Command: /Library/Frameworks/R.framework/Resources/bin/R CMD INSTALL DEP StartedAt: 2025-02-10 15:29:25 -0500 (Mon, 10 Feb 2025) EndedAt: 2025-02-10 15:30:18 -0500 (Mon, 10 Feb 2025) EllapsedTime: 53.6 seconds RetCode: 0 Status: OK