Package: DEP Version: 1.29.0 Command: /home/biocbuild/bbs-3.21-bioc/R/bin/R CMD check --install=check:DEP.install-out.txt --library=/home/biocbuild/bbs-3.21-bioc/R/site-library --timings DEP_1.29.0.tar.gz StartedAt: 2025-02-10 21:49:08 -0500 (Mon, 10 Feb 2025) EndedAt: 2025-02-10 21:57:37 -0500 (Mon, 10 Feb 2025) EllapsedTime: 508.7 seconds RetCode: 0 Status: WARNINGS CheckDir: DEP.Rcheck Warnings: 1