Package: DEP Version: 1.29.0 Command: /home/biocbuild/bbs-3.21-bioc/R/bin/R CMD INSTALL DEP StartedAt: 2025-02-10 15:44:31 -0500 (Mon, 10 Feb 2025) EndedAt: 2025-02-10 15:45:10 -0500 (Mon, 10 Feb 2025) EllapsedTime: 38.9 seconds RetCode: 0 Status: OK