Package: DEP Version: 1.29.0 Command: rm -rf DEP.buildbin-libdir && mkdir DEP.buildbin-libdir && E:\biocbuild\bbs-3.21-bioc\R\bin\R.exe CMD INSTALL --build --library=DEP.buildbin-libdir DEP_1.29.0.tar.gz StartedAt: 2025-02-10 07:36:57 -0500 (Mon, 10 Feb 2025) EndedAt: 2025-02-10 07:37:58 -0500 (Mon, 10 Feb 2025) EllapsedTime: 60.4 seconds RetCode: 0 Status: OK PackageFile: DEP_1.29.0.zip PackageFileSize: 3.082 MiB