Package: DEP Version: 1.29.0 Command: chmod a+r DEP -R && E:\biocbuild\bbs-3.21-bioc\R\bin\R.exe CMD build --keep-empty-dirs --no-resave-data DEP StartedAt: 2025-02-09 18:17:43 -0500 (Sun, 09 Feb 2025) EndedAt: 2025-02-09 18:19:39 -0500 (Sun, 09 Feb 2025) EllapsedTime: 116.3 seconds RetCode: 0 Status: OK PackageFile: DEP_1.29.0.tar.gz PackageFileSize: 2.2 MiB