Package: DESeq2 Version: 1.47.1 Command: /home/biocbuild/R/R/bin/R CMD build --keep-empty-dirs --no-resave-data DESeq2 StartedAt: 2025-01-28 22:26:05 -0000 (Tue, 28 Jan 2025) EndedAt: 2025-01-28 22:27:45 -0000 (Tue, 28 Jan 2025) EllapsedTime: 100.0 seconds RetCode: 1 Status: ERROR PackageFile: None PackageFileSize: NA