Package: DESeq2 Version: 1.47.1 Command: /home/biocbuild/R/R/bin/R CMD INSTALL DESeq2 StartedAt: 2025-01-29 19:46:59 -0000 (Wed, 29 Jan 2025) EndedAt: 2025-01-29 19:48:08 -0000 (Wed, 29 Jan 2025) EllapsedTime: 69.1 seconds RetCode: 0 Status: OK