Package: DESeq2 Version: 1.47.3 Command: /Library/Frameworks/R.framework/Resources/bin/R CMD build --keep-empty-dirs --no-resave-data DESeq2 StartedAt: 2025-02-09 16:32:11 -0500 (Sun, 09 Feb 2025) EndedAt: 2025-02-09 16:33:31 -0500 (Sun, 09 Feb 2025) EllapsedTime: 79.8 seconds RetCode: 1 Status: ERROR PackageFile: None PackageFileSize: NA